BEGIN:VCALENDAR
VERSION:2.0
PRODID:icalendar-ruby
CALSCALE:GREGORIAN
METHOD:PUBLISH
BEGIN:VEVENT
DTSTAMP:20260421T110705Z
UID:69-776236@pentecostalsofwilliamston.org
DTSTART:20260502T140000Z
DTEND:20260502T150000Z
CLASS:PUBLIC
CREATED:20260419T212408
DESCRIPTION:Men's Skeet Shoot.  If you are interested\, please see Bret or
  Alex for more details\, or contact us here and someone will get in touch 
 with you.  This is an annual event and is always a great time of fellowsh
 ip.
LAST-MODIFIED:20260419T212408
LOCATION:
SUMMARY:Men’s Skeet Shoot
URL;VALUE=URI:https://pentecostalsofwilliamston.org/events/men-s-skeet-shoo
 t/2026-05-02
ATTACH;FILENAME=IMG_4424.jpeg;FMTTYPE=image/jpeg:https://dq5pwpg1q8ru0.clou
 dfront.net/2026/04/19/23/49/14/a48a7845-0447-433b-be3a-d53bdb469598/IMG_44
 24.jpeg
END:VEVENT
END:VCALENDAR
